BEGIN:VCALENDAR
VERSION:2.0
PRODID:-//Broward League of Cites - ECPv6.15.20//NONSGML v1.0//EN
CALSCALE:GREGORIAN
METHOD:PUBLISH
X-WR-CALNAME:Broward League of Cites
X-ORIGINAL-URL:https://browardleague.org
X-WR-CALDESC:Events for Broward League of Cites
REFRESH-INTERVAL;VALUE=DURATION:PT1H
X-Robots-Tag:noindex
X-PUBLISHED-TTL:PT1H
BEGIN:VTIMEZONE
TZID:America/New_York
BEGIN:DAYLIGHT
TZOFFSETFROM:-0500
TZOFFSETTO:-0400
TZNAME:EDT
DTSTART:20220313T070000
END:DAYLIGHT
BEGIN:STANDARD
TZOFFSETFROM:-0400
TZOFFSETTO:-0500
TZNAME:EST
DTSTART:20221106T060000
END:STANDARD
BEGIN:DAYLIGHT
TZOFFSETFROM:-0500
TZOFFSETTO:-0400
TZNAME:EDT
DTSTART:20230312T070000
END:DAYLIGHT
BEGIN:STANDARD
TZOFFSETFROM:-0400
TZOFFSETTO:-0500
TZNAME:EST
DTSTART:20231105T060000
END:STANDARD
BEGIN:DAYLIGHT
TZOFFSETFROM:-0500
TZOFFSETTO:-0400
TZNAME:EDT
DTSTART:20240310T070000
END:DAYLIGHT
BEGIN:STANDARD
TZOFFSETFROM:-0400
TZOFFSETTO:-0500
TZNAME:EST
DTSTART:20241103T060000
END:STANDARD
END:VTIMEZONE
BEGIN:VEVENT
DTSTART;TZID=America/New_York:20231218T090000
DTEND;TZID=America/New_York:20231218T110000
DTSTAMP:20260422T131139
CREATED:20231206T233501Z
LAST-MODIFIED:20231218T143138Z
UID:22475-1702890000-1702897200@browardleague.org
SUMMARY:Solid Waste Disposal & Recyclable Materials Processing Authority Executive Committee Meeting
DESCRIPTION:Tamarac Community Center\n8601 W Commercial Blvd\nTamarac\, FL 33351 \nClick here to read the Agenda for the December 18\, 2023 Executive Meeting. \nClick here to read the Agreement with GovHR USA for the December 18\, 2023 Executive Meeting. \nClick here to read the Solid Waste Brochure for the December 18\, 2023 Executive Meeting. \nClick here to read the Solid Waste Announcement for the December 18\, 2023 Executive Meeting. \nClick here to read the Ad Source List for the December 18\, 2023 Executive Meeting.  \nClick here to read the Minutes from the December 4\, 2023 Executive Meeting.
URL:https://browardleague.org/events-bloc/solid-waste-disposal-recyclable-materials-processing-authority-executive-committee-meeting-2/
END:VEVENT
END:VCALENDAR