BEGIN:VCALENDAR
VERSION:2.0
PRODID:-//Broward League of Cites - ECPv6.15.20//NONSGML v1.0//EN
CALSCALE:GREGORIAN
METHOD:PUBLISH
X-WR-CALNAME:Broward League of Cites
X-ORIGINAL-URL:https://browardleague.org
X-WR-CALDESC:Events for Broward League of Cites
REFRESH-INTERVAL;VALUE=DURATION:PT1H
X-Robots-Tag:noindex
X-PUBLISHED-TTL:PT1H
BEGIN:VTIMEZONE
TZID:America/New_York
BEGIN:DAYLIGHT
TZOFFSETFROM:-0500
TZOFFSETTO:-0400
TZNAME:EDT
DTSTART:20220313T070000
END:DAYLIGHT
BEGIN:STANDARD
TZOFFSETFROM:-0400
TZOFFSETTO:-0500
TZNAME:EST
DTSTART:20221106T060000
END:STANDARD
BEGIN:DAYLIGHT
TZOFFSETFROM:-0500
TZOFFSETTO:-0400
TZNAME:EDT
DTSTART:20230312T070000
END:DAYLIGHT
BEGIN:STANDARD
TZOFFSETFROM:-0400
TZOFFSETTO:-0500
TZNAME:EST
DTSTART:20231105T060000
END:STANDARD
BEGIN:DAYLIGHT
TZOFFSETFROM:-0500
TZOFFSETTO:-0400
TZNAME:EDT
DTSTART:20240310T070000
END:DAYLIGHT
BEGIN:STANDARD
TZOFFSETFROM:-0400
TZOFFSETTO:-0500
TZNAME:EST
DTSTART:20241103T060000
END:STANDARD
END:VTIMEZONE
BEGIN:VEVENT
DTSTART;TZID=America/New_York:20231204T090000
DTEND;TZID=America/New_York:20231204T230000
DTSTAMP:20260422T131140
CREATED:20231117T172021Z
LAST-MODIFIED:20231130T173715Z
UID:22429-1701680400-1701730800@browardleague.org
SUMMARY:Solid Waste Disposal and Recyclable Materials Processing Authority Executive Committee Meeting
DESCRIPTION:Lauderhill City Hall\n5581 West Oakland Park Boulevard\nRoom 134\nLauderhill\, FL 33313 \nClick here to read the agenda for the December 4\, 2023 meeting.
URL:https://browardleague.org/events-bloc/solid-waste-disposal-and-recyclable-materials-processing-authority-executive-committee-meeting-2/
END:VEVENT
BEGIN:VEVENT
DTSTART;TZID=America/New_York:20231206T130000
DTEND;TZID=America/New_York:20231206T150000
DTSTAMP:20260422T131140
CREATED:20231204T222614Z
LAST-MODIFIED:20231204T222620Z
UID:22448-1701867600-1701874800@browardleague.org
SUMMARY:TAC Meeting
DESCRIPTION:Flamingo Park Meeting Hall\n12855 NW 8th Street\nSunrise\, FL 33323 \nClick here to read the Agenda for the December 6\, 2023 TAC Meeting. \nClick here to read the Scope of Services for the December 6\, 2023 TAC Meeting.
URL:https://browardleague.org/events-bloc/tac-meeting-4/
END:VEVENT
END:VCALENDAR