BEGIN:VCALENDAR
VERSION:2.0
PRODID:-//Broward League of Cites - ECPv6.15.20//NONSGML v1.0//EN
CALSCALE:GREGORIAN
METHOD:PUBLISH
X-ORIGINAL-URL:https://browardleague.org
X-WR-CALDESC:Events for Broward League of Cites
REFRESH-INTERVAL;VALUE=DURATION:PT1H
X-Robots-Tag:noindex
X-PUBLISHED-TTL:PT1H
BEGIN:VTIMEZONE
TZID:America/New_York
BEGIN:DAYLIGHT
TZOFFSETFROM:-0500
TZOFFSETTO:-0400
TZNAME:EDT
DTSTART:20220313T070000
END:DAYLIGHT
BEGIN:STANDARD
TZOFFSETFROM:-0400
TZOFFSETTO:-0500
TZNAME:EST
DTSTART:20221106T060000
END:STANDARD
BEGIN:DAYLIGHT
TZOFFSETFROM:-0500
TZOFFSETTO:-0400
TZNAME:EDT
DTSTART:20230312T070000
END:DAYLIGHT
BEGIN:STANDARD
TZOFFSETFROM:-0400
TZOFFSETTO:-0500
TZNAME:EST
DTSTART:20231105T060000
END:STANDARD
BEGIN:DAYLIGHT
TZOFFSETFROM:-0500
TZOFFSETTO:-0400
TZNAME:EDT
DTSTART:20240310T070000
END:DAYLIGHT
BEGIN:STANDARD
TZOFFSETFROM:-0400
TZOFFSETTO:-0500
TZNAME:EST
DTSTART:20241103T060000
END:STANDARD
END:VTIMEZONE
BEGIN:VEVENT
DTSTART;TZID=America/New_York:20230712T103000
DTEND;TZID=America/New_York:20230712T113000
DTSTAMP:20260422T220721
CREATED:20230717T120419Z
LAST-MODIFIED:20230717T120419Z
UID:22156-1689157800-1689161400@browardleague.org
SUMMARY:Solid Waste TAC Meeting
DESCRIPTION:https://coconutcreek.zoom.us/j/86487210474?pwd=UzIxMkllRlBWY3lkcm9sM1BuTmpNdz09  \nMeeting ID: 864 8721 0474 \nPasscode: 765068 \nOne tap mobile \n+13052241968\,\,86487210474# US \n+13092053325\,\,86487210474# US \n\nDial by your location \n\n+1 305 224 1968 US\n+1 309 205 3325 US\n+1 312 626 6799 US (Chicago)\n+1 646 931 3860 US\n+1 929 205 6099 US (New York)\n+1 301 715 8592 US (Washington DC)\n+1 564 217 2000 US\n+1 669 444 9171 US\n+1 669 900 6833 US (San Jose)\n+1 689 278 1000 US\n+1 719 359 4580 US\n+1 253 205 0468 US\n+1 253 215 8782 US (Tacoma)\n+1 346 248 7799 US (Houston)\n+1 360 209 5623 US\n+1 386 347 5053 US\n+1 507 473 4847 US\n\n\nMeeting ID: 864 8721 0474
URL:https://browardleague.org/events-bloc/solid-waste-tac-meeting/
END:VEVENT
END:VCALENDAR