BEGIN:VCALENDAR
VERSION:2.0
PRODID:-//Broward League of Cites - ECPv6.15.20//NONSGML v1.0//EN
CALSCALE:GREGORIAN
METHOD:PUBLISH
X-ORIGINAL-URL:https://browardleague.org
X-WR-CALDESC:Events for Broward League of Cites
REFRESH-INTERVAL;VALUE=DURATION:PT1H
X-Robots-Tag:noindex
X-PUBLISHED-TTL:PT1H
BEGIN:VTIMEZONE
TZID:America/New_York
BEGIN:DAYLIGHT
TZOFFSETFROM:-0500
TZOFFSETTO:-0400
TZNAME:EDT
DTSTART:20220313T070000
END:DAYLIGHT
BEGIN:STANDARD
TZOFFSETFROM:-0400
TZOFFSETTO:-0500
TZNAME:EST
DTSTART:20221106T060000
END:STANDARD
BEGIN:DAYLIGHT
TZOFFSETFROM:-0500
TZOFFSETTO:-0400
TZNAME:EDT
DTSTART:20230312T070000
END:DAYLIGHT
BEGIN:STANDARD
TZOFFSETFROM:-0400
TZOFFSETTO:-0500
TZNAME:EST
DTSTART:20231105T060000
END:STANDARD
BEGIN:DAYLIGHT
TZOFFSETFROM:-0500
TZOFFSETTO:-0400
TZNAME:EDT
DTSTART:20240310T070000
END:DAYLIGHT
BEGIN:STANDARD
TZOFFSETFROM:-0400
TZOFFSETTO:-0500
TZNAME:EST
DTSTART:20241103T060000
END:STANDARD
END:VTIMEZONE
BEGIN:VEVENT
DTSTART;TZID=America/New_York:20230228T150000
DTEND;TZID=America/New_York:20230228T153000
DTSTAMP:20260423T133055
CREATED:20230221T234535Z
LAST-MODIFIED:20230221T234535Z
UID:21446-1677596400-1677598200@browardleague.org
SUMMARY:Solid Waste Middle Cities Meeting
DESCRIPTION:https://us06web.zoom.us/j/85939675724?pwd=ZG5kUWF2bEkyNWxmRm02SGlKTEo5Zz09 \nMeeting ID: 859 3967 5724\nPasscode: 002069
URL:https://browardleague.org/events-bloc/solid-waste-middle-cities-meeting/
END:VEVENT
BEGIN:VEVENT
DTSTART;TZID=America/New_York:20230302T120000
DTEND;TZID=America/New_York:20230302T133000
DTSTAMP:20260423T133055
CREATED:20220524T204000Z
LAST-MODIFIED:20230221T234822Z
UID:20379-1677758400-1677763800@browardleague.org
SUMMARY:Board of Directors Meeting
DESCRIPTION:
URL:https://browardleague.org/events-bloc/board-of-directors-meeting-15/
END:VEVENT
END:VCALENDAR