BEGIN:VCALENDAR
VERSION:2.0
PRODID:-//Broward League of Cites - ECPv6.15.20//NONSGML v1.0//EN
CALSCALE:GREGORIAN
METHOD:PUBLISH
X-ORIGINAL-URL:https://browardleague.org
X-WR-CALDESC:Events for Broward League of Cites
REFRESH-INTERVAL;VALUE=DURATION:PT1H
X-Robots-Tag:noindex
X-PUBLISHED-TTL:PT1H
BEGIN:VTIMEZONE
TZID:America/New_York
BEGIN:DAYLIGHT
TZOFFSETFROM:-0500
TZOFFSETTO:-0400
TZNAME:EDT
DTSTART:20210314T070000
END:DAYLIGHT
BEGIN:STANDARD
TZOFFSETFROM:-0400
TZOFFSETTO:-0500
TZNAME:EST
DTSTART:20211107T060000
END:STANDARD
BEGIN:DAYLIGHT
TZOFFSETFROM:-0500
TZOFFSETTO:-0400
TZNAME:EDT
DTSTART:20220313T070000
END:DAYLIGHT
BEGIN:STANDARD
TZOFFSETFROM:-0400
TZOFFSETTO:-0500
TZNAME:EST
DTSTART:20221106T060000
END:STANDARD
BEGIN:DAYLIGHT
TZOFFSETFROM:-0500
TZOFFSETTO:-0400
TZNAME:EDT
DTSTART:20230312T070000
END:DAYLIGHT
BEGIN:STANDARD
TZOFFSETFROM:-0400
TZOFFSETTO:-0500
TZNAME:EST
DTSTART:20231105T060000
END:STANDARD
END:VTIMEZONE
BEGIN:VEVENT
DTSTART;TZID=America/New_York:20221206T110000
DTEND;TZID=America/New_York:20221206T120000
DTSTAMP:20260423T164133
CREATED:20221130T131643Z
LAST-MODIFIED:20221130T131643Z
UID:21234-1670324400-1670328000@browardleague.org
SUMMARY:Ten Most Populous Cities Selection Meeting
DESCRIPTION:Topic: Ten Most Populous Cities Selection Meeting\nTime: Dec 6\, 2022 11:00 AM Eastern Time (US and Canada) \nJoin Zoom Meeting\nhttps://us06web.zoom.us/j/84243726193?pwd=RE1PY1ZVSHFkckE1ZjRnRmZzR0w2Zz09 \nMeeting ID: 842 4372 6193\nPasscode: 324642
URL:https://browardleague.org/events-bloc/ten-most-populous-cities-selection-meeting/
END:VEVENT
BEGIN:VEVENT
DTSTART;TZID=America/New_York:20221207T110000
DTEND;TZID=America/New_York:20221207T120000
DTSTAMP:20260423T164133
CREATED:20221130T131733Z
LAST-MODIFIED:20221207T152541Z
UID:21236-1670410800-1670414400@browardleague.org
SUMMARY:Solid Waste Working Group Meeting
DESCRIPTION:Topic: Solid Waste Working Group Meeting\nTime: Dec 7\, 2022 11:00 AM Eastern Time (US and Canada) \nJoin Zoom Meeting\nhttps://us06web.zoom.us/j/84190700053?pwd=aStRMSt4Unl6eUtpYUhvSUFEdCtVdz09 \nMeeting ID: 841 9070 0053\nPasscode: 293275 \nAgenda
URL:https://browardleague.org/events-bloc/solid-waste-working-group-meeting-20/
END:VEVENT
BEGIN:VEVENT
DTSTART;TZID=America/New_York:20221208T173000
DTEND;TZID=America/New_York:20221208T193000
DTSTAMP:20260423T164133
CREATED:20221122T203154Z
LAST-MODIFIED:20221122T203154Z
UID:21225-1670520600-1670527800@browardleague.org
SUMMARY:Broward League of Cities Holiday Mingle and Jingle
DESCRIPTION:Cambria Hotel Fort Lauderdale Beach\n2231 N Ocean Blvd.\nFort Lauderdale\, FL 33305 \nClick here to RSVP for the Broward League of Cities Holiday Mingle and Jingle on December 8\, 2022.
URL:https://browardleague.org/events-bloc/broward-league-of-cities-holiday-mingle-and-jingle/
END:VEVENT
END:VCALENDAR