BEGIN:VCALENDAR
VERSION:2.0
PRODID:-//Broward League of Cites - ECPv6.15.20//NONSGML v1.0//EN
CALSCALE:GREGORIAN
METHOD:PUBLISH
X-ORIGINAL-URL:https://browardleague.org
X-WR-CALDESC:Events for Broward League of Cites
REFRESH-INTERVAL;VALUE=DURATION:PT1H
X-Robots-Tag:noindex
X-PUBLISHED-TTL:PT1H
BEGIN:VTIMEZONE
TZID:America/New_York
BEGIN:DAYLIGHT
TZOFFSETFROM:-0500
TZOFFSETTO:-0400
TZNAME:EDT
DTSTART:20220313T070000
END:DAYLIGHT
BEGIN:STANDARD
TZOFFSETFROM:-0400
TZOFFSETTO:-0500
TZNAME:EST
DTSTART:20221106T060000
END:STANDARD
BEGIN:DAYLIGHT
TZOFFSETFROM:-0500
TZOFFSETTO:-0400
TZNAME:EDT
DTSTART:20230312T070000
END:DAYLIGHT
BEGIN:STANDARD
TZOFFSETFROM:-0400
TZOFFSETTO:-0500
TZNAME:EST
DTSTART:20231105T060000
END:STANDARD
BEGIN:DAYLIGHT
TZOFFSETFROM:-0500
TZOFFSETTO:-0400
TZNAME:EDT
DTSTART:20240310T070000
END:DAYLIGHT
BEGIN:STANDARD
TZOFFSETFROM:-0400
TZOFFSETTO:-0500
TZNAME:EST
DTSTART:20241103T060000
END:STANDARD
END:VTIMEZONE
BEGIN:VEVENT
DTSTART;TZID=America/New_York:20230508T110000
DTEND;TZID=America/New_York:20230508T120000
DTSTAMP:20260422T232727
CREATED:20230505T172041Z
LAST-MODIFIED:20230505T172041Z
UID:21803-1683543600-1683547200@browardleague.org
SUMMARY:Solid Waste Working Group
DESCRIPTION:Join Zoom Meeting\nhttps://us06web.zoom.us/j/83030485908?pwd=YzRYREtCMGtSMy9sRWh4U1dwSDZKUT09 \nMeeting ID: 830 3048 5908\nPasscode: 805752 \nClick here to read the ILA Modifications. \nClick here to read the Agenda. \nClick here to read the Weston Clause. \n 
URL:https://browardleague.org/events-bloc/solid-waste-working-group-21/
END:VEVENT
END:VCALENDAR